BEGIN:VCALENDAR
VERSION:2.0
PRODID:-//Stieglerhaus - St. Stefan ob Stainz - ECPv6.15.20//NONSGML v1.0//EN
CALSCALE:GREGORIAN
METHOD:PUBLISH
X-WR-CALNAME:Stieglerhaus - St. Stefan ob Stainz
X-ORIGINAL-URL:https://stieglerhaus.at
X-WR-CALDESC:Veranstaltungen für Stieglerhaus - St. Stefan ob Stainz
REFRESH-INTERVAL;VALUE=DURATION:PT1H
X-Robots-Tag:noindex
X-PUBLISHED-TTL:PT1H
BEGIN:VTIMEZONE
TZID:Europe/Vienna
BEGIN:DAYLIGHT
TZOFFSETFROM:+0100
TZOFFSETTO:+0200
TZNAME:CEST
DTSTART:20240331T010000
END:DAYLIGHT
BEGIN:STANDARD
TZOFFSETFROM:+0200
TZOFFSETTO:+0100
TZNAME:CET
DTSTART:20241027T010000
END:STANDARD
BEGIN:DAYLIGHT
TZOFFSETFROM:+0100
TZOFFSETTO:+0200
TZNAME:CEST
DTSTART:20250330T010000
END:DAYLIGHT
BEGIN:STANDARD
TZOFFSETFROM:+0200
TZOFFSETTO:+0100
TZNAME:CET
DTSTART:20251026T010000
END:STANDARD
BEGIN:DAYLIGHT
TZOFFSETFROM:+0100
TZOFFSETTO:+0200
TZNAME:CEST
DTSTART:20260329T010000
END:DAYLIGHT
BEGIN:STANDARD
TZOFFSETFROM:+0200
TZOFFSETTO:+0100
TZNAME:CET
DTSTART:20261025T010000
END:STANDARD
END:VTIMEZONE
BEGIN:VEVENT
DTSTART;TZID=Europe/Vienna:20250427T180000
DTEND;TZID=Europe/Vienna:20250427T180000
DTSTAMP:20260424T185935
CREATED:20250108T151242Z
LAST-MODIFIED:20260129T120948Z
UID:10000459-1745776800-1745776800@stieglerhaus.at
SUMMARY:Konzert: Tango argentino
DESCRIPTION:ZU GAST im Stieglerhaus\n„Los Suplentes“ Duo Tango\nDas Duo Faryna-Satorre alias ‚Los Suplentes‘ (Die Ersatzspieler) haben ihre Spuren in den bedeutendsten Milongas der Tangoszene von Buenos Aires hinterlassen und ihre Kunst in mehr als zehn europäische Länder gebracht\, mit mehr als 250 Konzerten und fünf erfolgreichen Tourneen. Ihr Ziel ist es seither\, den charakteristischen Klang der Tango-Orchester der vierziger Jahre auf das Format eines Duos aus Bandoneon und Gitarre zu übertragen.\nDie Besonderheit des Duos zeigt sich in den freien Arrangements ohne Noten\, die der Improvisation freien Lauf lassen und zu einem frischen und sich ständig erneuernden Klang führen. \nEmiliano Faryna (Gitarre) und Hugo Satorre (Bandoneon) können bereits auf eine lange professionelle Karriere zurückblicken und wurden mit zahlreichen Preisen ausgezeichnet\, darunter eine Nominierung für den Latin Grammy und den Carlos Gardel Award.\nIm Stieglerhaus sind Los Suplentes mit einem eigens zusammengestellten Konzert-Programm zu hören\, der den Zuschauern die Vielfalt des Tango Argentino näherbringt\, von argentinischer Folklore bis Astor Piazzolla. \nWeitere Informationen unter:\nhttps://sites.google.com/view/los-suplentes/home \nVeranstalter: David Ludwig \nMusiker:\nEmiliano Faryna (Gitarre)\nHugo Satorre (Bandoneon) \n\nAchtung: Beginnzeit 18.00 Uhr!\nTicketpreise:\nVorverkauf Euro 10\,00 (Reservierungen bis 25. April 2025 um 16.00 Uhr möglich)\nAbendkassa Euro 15\,00 \nNur Barzahlung an der Abendkasse!\nFreie Sitzplatzwahl\, Einlass ab 17.30 Uhr \n  \nRestkarten an der Abendkasse\, ab 17:30
URL:https://stieglerhaus.at/veranstaltung/konzert-tango-argentino/
LOCATION:Stieglerhaus\, St. Stefan ob Stainz 14\, 8511 St. Stefan ob Stainz\, Österreich
CATEGORIES:Konzert,Veranstaltungsarchiv
ATTACH;FMTTYPE=image/jpeg:https://stieglerhaus.at/wp-content/uploads/2025/01/Tango-Los-Suplentes-Web480.jpg
ORGANIZER;CN="David Ludwig":MAILTO:tickets@stieglerhaus.at
GEO:46.9292459;15.2556822
X-APPLE-STRUCTURED-LOCATION;VALUE=URI;X-ADDRESS=Stieglerhaus St. Stefan ob Stainz 14 8511 St. Stefan ob Stainz Österreich;X-APPLE-RADIUS=500;X-TITLE=St. Stefan ob Stainz 14\, 8511 St. Stefan ob Stainz:geo:15.2556822,46.9292459
END:VEVENT
END:VCALENDAR